BEGIN:VCALENDAR
VERSION:2.0
PRODID:icalendar-ruby
CALSCALE:GREGORIAN
METHOD:PUBLISH
BEGIN:VEVENT
DTSTAMP:20260424T083929Z
UID:5-436884@discovervcc.org
DTSTART:20261101T180000Z
DTEND:20261101T190000Z
CLASS:PUBLIC
CREATED:20260423T195248
DESCRIPTION:Sunday Worship
LAST-MODIFIED:20260423T195248
LOCATION:Main Sanctuary
SUMMARY:Sunday Worship
URL;VALUE=URI:https://discovervcc.org/events/sunday-worship/2026-11-01
END:VEVENT
END:VCALENDAR
